BEGIN:VCALENDAR
VERSION:2.0
METHOD:PUBLISH
BEGIN:VEVENT
DTSTART:20260514T190000Z
DTEND:20260514T200000Z
LOCATION:
TRANSP: OPAQUE
SEQUENCE:0
UID:
DTSTAMP:20260419T101152Z
SUMMARY:Building Lasting Impact: Sustainable Mentoring Programs in Schools
DESCRIPTION:Online event | Événement virtuel\n\n
PRIORITY:1
CLASS:PUBLIC
END:VEVENT
END:VCALENDAR
